BEGIN:VCALENDAR
PRODID:-//eluceo/ical//2.0/EN
VERSION:2.0
CALSCALE:GREGORIAN
BEGIN:VEVENT
UID:399e28995f94d636f975e83ee261f9e7
DTSTAMP:20260421T132215Z
SUMMARY:Plauderlunch in Immensee\, vorgängig ab 11:30 Willkommensapéro
DESCRIPTION:
URL:https://rotary-schwyz.ch/fr/agenda/show/112494
DTSTART;TZID=Europe/Zurich:20200608T120000
DTEND;TZID=Europe/Zurich:20200608T133000
LOCATION:Restaurant Tells Hohle Gasse\, Immensee
CATEGORIES:Rotary
END:VEVENT
BEGIN:VTIMEZONE
TZID:Europe/Zurich
BEGIN:DAYLIGHT
DTSTART:20200608T120000
TZNAME:CEST
TZOFFSETTO:+0200
TZOFFSETFROM:+0200
END:DAYLIGHT
END:VTIMEZONE
END:VCALENDAR
