BEGIN:VCALENDAR
PRODID:-//eluceo/ical//2.0/EN
VERSION:2.0
CALSCALE:GREGORIAN
BEGIN:VEVENT
UID:f3818cb88e779e1d66ab5e601828a611
DTSTAMP:20260423T081658Z
SUMMARY:Rückblick auf das erste Jahr  Flurina Valsecchi\, Chefredaktorin B
 ote der Urschweiz
DESCRIPTION:Site internet: http://www.waldstaetterhof.ch
URL:https://rotary-schwyz.ch/fr/agenda/show/143347
DTSTART;TZID=Europe/Zurich:20220620T120000
DTEND;TZID=Europe/Zurich:20220620T133000
LOCATION:Seehotel Waldstätterhof\, Waldstätterquai 6\, 6440 Brunnen
CATEGORIES:Rotary
END:VEVENT
BEGIN:VTIMEZONE
TZID:Europe/Zurich
BEGIN:DAYLIGHT
DTSTART:20220620T120000
TZNAME:CEST
TZOFFSETTO:+0200
TZOFFSETFROM:+0200
END:DAYLIGHT
END:VTIMEZONE
END:VCALENDAR
