BEGIN:VCALENDAR
PRODID:-//eluceo/ical//2.0/EN
VERSION:2.0
CALSCALE:GREGORIAN
BEGIN:VEVENT
UID:254a929bd2be324a6333b7d2b9dda7e7
DTSTAMP:20260422T134840Z
SUMMARY:Plauderlunch Brunnen
DESCRIPTION:Site internet: http://www.waldstaetterhof.ch
URL:https://rotary-schwyz.ch/fr/agenda/show/143353
DTSTART;TZID=Europe/Zurich:20220718T120000
DTEND;TZID=Europe/Zurich:20220718T133000
LOCATION:Seehotel Waldstätterhof\, Waldstätterquai 6\, 6440 Brunnen
CATEGORIES:Rotary
END:VEVENT
BEGIN:VTIMEZONE
TZID:Europe/Zurich
BEGIN:DAYLIGHT
DTSTART:20220718T120000
TZNAME:CEST
TZOFFSETTO:+0200
TZOFFSETFROM:+0200
END:DAYLIGHT
END:VTIMEZONE
END:VCALENDAR
