BEGIN:VCALENDAR
PRODID:-//eluceo/ical//2.0/EN
VERSION:2.0
CALSCALE:GREGORIAN
BEGIN:VEVENT
UID:709bf1b3f3efba81a531dea1ffe6df62
DTSTAMP:20260422T115919Z
SUMMARY:Plauderlunch Brunnen
DESCRIPTION:Site internet: http://www.waldstaetterhof.ch
URL:https://rotary-schwyz.ch/fr/agenda/show/143354
DTSTART;TZID=Europe/Zurich:20220725T120000
DTEND;TZID=Europe/Zurich:20220725T133000
LOCATION:Seehotel Waldstätterhof\, Waldstätterquai 6\, 6440 Brunnen
CATEGORIES:Rotary
END:VEVENT
BEGIN:VTIMEZONE
TZID:Europe/Zurich
BEGIN:DAYLIGHT
DTSTART:20220725T120000
TZNAME:CEST
TZOFFSETTO:+0200
TZOFFSETFROM:+0200
END:DAYLIGHT
END:VTIMEZONE
END:VCALENDAR
