BEGIN:VCALENDAR
PRODID:-//eluceo/ical//2.0/EN
VERSION:2.0
CALSCALE:GREGORIAN
BEGIN:VEVENT
UID:3a8540cb96d5fb0727c29ce7f9595058
DTSTAMP:20260423T100517Z
SUMMARY:«Danke für mehr als 30 Jahre Rotarische Freundschaft!»    Rotari
 er Christoph M. Müller lädt ein zu gemütlichem Zusammensein.
DESCRIPTION:Site internet: https://roessli-huenenberg.ch/
URL:https://rotary-schwyz.ch/fr/agenda/show/148102
DTSTART;TZID=Europe/Zurich:20220905T180000
DTEND;TZID=Europe/Zurich:20220905T230000
LOCATION:Restaurant Rössli\, Hünenberg
CATEGORIES:Rotary
END:VEVENT
BEGIN:VTIMEZONE
TZID:Europe/Zurich
BEGIN:DAYLIGHT
DTSTART:20220905T180000
TZNAME:CEST
TZOFFSETTO:+0200
TZOFFSETFROM:+0200
END:DAYLIGHT
END:VTIMEZONE
END:VCALENDAR
