BEGIN:VCALENDAR
PRODID:-//eluceo/ical//2.0/EN
VERSION:2.0
CALSCALE:GREGORIAN
BEGIN:VEVENT
UID:413b2f9fd99a37977985d13d48e0da7d
DTSTAMP:20260419T202401Z
SUMMARY:Kein Meeting: Martinstag
DESCRIPTION:
URL:https://rotary-schwyz.ch/fr/agenda/show/35678
DTSTART;TZID=Europe/Zurich:20131111T000000
DTEND;TZID=Europe/Zurich:20131111T000000
LOCATION:-
CATEGORIES:Rotary
END:VEVENT
BEGIN:VTIMEZONE
TZID:Europe/Zurich
BEGIN:STANDARD
DTSTART:20131111T000000
TZNAME:CET
TZOFFSETTO:+0100
TZOFFSETFROM:+0100
END:STANDARD
END:VTIMEZONE
END:VCALENDAR
