BEGIN:VCALENDAR
PRODID:-//eluceo/ical//2.0/EN
VERSION:2.0
CALSCALE:GREGORIAN
BEGIN:VEVENT
UID:0aac74e072cacb80669c59968061f8b6
DTSTAMP:20260419T202144Z
SUMMARY:Weihnachtsfeier (gemäss separater Einladung)
DESCRIPTION:
URL:https://rotary-schwyz.ch/fr/agenda/show/35681
DTSTART;TZID=Europe/Zurich:20131202T180000
DTEND;TZID=Europe/Zurich:20131202T180000
LOCATION:Ital Reding-Hofstatt\, Schwyz
CATEGORIES:Rotary
END:VEVENT
BEGIN:VTIMEZONE
TZID:Europe/Zurich
BEGIN:STANDARD
DTSTART:20131202T180000
TZNAME:CET
TZOFFSETTO:+0100
TZOFFSETFROM:+0100
END:STANDARD
END:VTIMEZONE
END:VCALENDAR
