BEGIN:VCALENDAR
PRODID:-//eluceo/ical//2.0/EN
VERSION:2.0
CALSCALE:GREGORIAN
BEGIN:VEVENT
UID:a24cb264e7a953ba53653f77aa5bdb56
DTSTAMP:20260420T091654Z
SUMMARY:Plauderlunch: Güdelmontag in Schwyz
DESCRIPTION:
URL:https://rotary-schwyz.ch/fr/agenda/show/38903
DTSTART;TZID=Europe/Zurich:20140303T120000
DTEND;TZID=Europe/Zurich:20140303T120000
LOCATION:Hotel Wysses Rössli\, Schwyz
CATEGORIES:Rotary
END:VEVENT
BEGIN:VTIMEZONE
TZID:Europe/Zurich
BEGIN:STANDARD
DTSTART:20140303T120000
TZNAME:CET
TZOFFSETTO:+0100
TZOFFSETFROM:+0100
END:STANDARD
END:VTIMEZONE
END:VCALENDAR
