BEGIN:VCALENDAR
PRODID:-//eluceo/ical//2.0/EN
VERSION:2.0
CALSCALE:GREGORIAN
BEGIN:VEVENT
UID:5f9bfd4a70d5d447f489dd845e84a53d
DTSTAMP:20260423T114354Z
SUMMARY:Blick zurück nach Sotschi - Mein Traum von den olympischen Spielen
DESCRIPTION:Conférencier(s): Nadja Purtschert\, Snowboarderin
URL:https://rotary-schwyz.ch/fr/agenda/show/40272
DTSTART;TZID=Europe/Zurich:20140616T120000
DTEND;TZID=Europe/Zurich:20140616T120000
LOCATION:Seehotel Waldstätterhof\, Brunnen
CATEGORIES:Rotary
END:VEVENT
BEGIN:VTIMEZONE
TZID:Europe/Zurich
BEGIN:DAYLIGHT
DTSTART:20140616T120000
TZNAME:CEST
TZOFFSETTO:+0200
TZOFFSETFROM:+0200
END:DAYLIGHT
END:VTIMEZONE
END:VCALENDAR
