BEGIN:VCALENDAR
PRODID:-//eluceo/ical//2.0/EN
VERSION:2.0
CALSCALE:GREGORIAN
BEGIN:VEVENT
UID:96e12494165040a7bb75757cfbd7bd43
DTSTAMP:20260423T114215Z
SUMMARY:Heute Aktuell: Outbound Mara Vogel stellt sich vor
DESCRIPTION:Conférencier(s): Mara Vogel
URL:https://rotary-schwyz.ch/fr/agenda/show/40731
DTSTART;TZID=Europe/Zurich:20140721T120000
DTEND;TZID=Europe/Zurich:20140721T120000
LOCATION:Seehotel Waldstätterhof\, Brunnen
CATEGORIES:Rotary
END:VEVENT
BEGIN:VTIMEZONE
TZID:Europe/Zurich
BEGIN:DAYLIGHT
DTSTART:20140721T120000
TZNAME:CEST
TZOFFSETTO:+0200
TZOFFSETFROM:+0200
END:DAYLIGHT
END:VTIMEZONE
END:VCALENDAR
