BEGIN:VCALENDAR
PRODID:-//eluceo/ical//2.0/EN
VERSION:2.0
CALSCALE:GREGORIAN
BEGIN:VEVENT
UID:97fde9a708aea35fca7ed3f60f0ac34b
DTSTAMP:20260420T091827Z
SUMMARY:Kein Rotary-Meeting (Weihnachtsferien)
DESCRIPTION:
URL:https://rotary-schwyz.ch/fr/agenda/show/56021
DTSTART;TZID=Europe/Zurich:20151228T000000
DTEND;TZID=Europe/Zurich:20151228T000000
LOCATION:-
CATEGORIES:Rotary
END:VEVENT
BEGIN:VTIMEZONE
TZID:Europe/Zurich
BEGIN:STANDARD
DTSTART:20151228T000000
TZNAME:CET
TZOFFSETTO:+0100
TZOFFSETFROM:+0100
END:STANDARD
END:VTIMEZONE
END:VCALENDAR
