BEGIN:VCALENDAR
PRODID:-//eluceo/ical//2.0/EN
VERSION:2.0
CALSCALE:GREGORIAN
BEGIN:VEVENT
UID:dd659acec812dd82c5208078b707dcf8
DTSTAMP:20260420T102946Z
SUMMARY:Plauderlunch in Schwyz
DESCRIPTION:
URL:https://rotary-schwyz.ch/fr/agenda/show/57325
DTSTART;TZID=Europe/Zurich:20160118T120000
DTEND;TZID=Europe/Zurich:20160118T120000
LOCATION:Hotel Wysses Rössli\, Schwyz
CATEGORIES:Rotary
END:VEVENT
BEGIN:VTIMEZONE
TZID:Europe/Zurich
BEGIN:STANDARD
DTSTART:20160118T120000
TZNAME:CET
TZOFFSETTO:+0100
TZOFFSETFROM:+0100
END:STANDARD
END:VTIMEZONE
END:VCALENDAR
