BEGIN:VCALENDAR
PRODID:-//eluceo/ical//2.0/EN
VERSION:2.0
CALSCALE:GREGORIAN
BEGIN:VEVENT
UID:1307052a25a9fa28fcccecc4d96665b8
DTSTAMP:20260420T061611Z
SUMMARY:ONLINE/OFFLINE - Chancen und Grenzen der Digitalisierung
DESCRIPTION:Conférencier(s): Rot. Fridel Rickenbacher
URL:https://rotary-schwyz.ch/fr/agenda/show/60116
DTSTART;TZID=Europe/Zurich:20160404T120000
DTEND;TZID=Europe/Zurich:20160404T120000
LOCATION:Hotel Restaurant Seehof\, Küssnacht
CATEGORIES:Rotary
END:VEVENT
BEGIN:VTIMEZONE
TZID:Europe/Zurich
BEGIN:DAYLIGHT
DTSTART:20160404T120000
TZNAME:CEST
TZOFFSETTO:+0200
TZOFFSETFROM:+0200
END:DAYLIGHT
END:VTIMEZONE
END:VCALENDAR
