BEGIN:VCALENDAR
PRODID:-//eluceo/ical//2.0/EN
VERSION:2.0
CALSCALE:GREGORIAN
BEGIN:VEVENT
UID:3d8909f403faf1059f2c8c516bfbb95f
DTSTAMP:20260420T061823Z
SUMMARY:Testfahrten mit dem TESLA (Partneranlass)
DESCRIPTION:Conférencier(s): Gemäss separatem Programm
URL:https://rotary-schwyz.ch/fr/agenda/show/60118
DTSTART;TZID=Europe/Zurich:20160418T173000
DTEND;TZID=Europe/Zurich:20160418T173000
LOCATION:Restaurant Lincoln\, Lincolnweg 21\, Einsiedeln
CATEGORIES:Rotary
END:VEVENT
BEGIN:VTIMEZONE
TZID:Europe/Zurich
BEGIN:DAYLIGHT
DTSTART:20160418T173000
TZNAME:CEST
TZOFFSETTO:+0200
TZOFFSETFROM:+0200
END:DAYLIGHT
END:VTIMEZONE
END:VCALENDAR
