BEGIN:VCALENDAR
PRODID:-//eluceo/ical//2.0/EN
VERSION:2.0
CALSCALE:GREGORIAN
BEGIN:VEVENT
UID:a5f72f4539ab93f2fbb864048054f990
DTSTAMP:20260420T062103Z
SUMMARY:Klassifikationsvortrag
DESCRIPTION:Conférencier(s): Rot. Heinz Schelbert
URL:https://rotary-schwyz.ch/fr/agenda/show/61394
DTSTART;TZID=Europe/Zurich:20160523T120000
DTEND;TZID=Europe/Zurich:20160523T120000
LOCATION:Seehotel Waldstätterhof\, Brunnen
CATEGORIES:Rotary
END:VEVENT
BEGIN:VTIMEZONE
TZID:Europe/Zurich
BEGIN:DAYLIGHT
DTSTART:20160523T120000
TZNAME:CEST
TZOFFSETTO:+0200
TZOFFSETFROM:+0200
END:DAYLIGHT
END:VTIMEZONE
END:VCALENDAR
