BEGIN:VCALENDAR
PRODID:-//eluceo/ical//2.0/EN
VERSION:2.0
CALSCALE:GREGORIAN
BEGIN:VEVENT
UID:a4b403289e8751030a0a89c9d3ae60a6
DTSTAMP:20260421T083841Z
SUMMARY:Gotthard-Basis-Tunnel - Interventionskonzept
DESCRIPTION:Conférencier(s): Ignaz Zopp\, Altdorf
URL:https://rotary-schwyz.ch/fr/agenda/show/68370
DTSTART;TZID=Europe/Zurich:20161114T120000
DTEND;TZID=Europe/Zurich:20161114T120000
LOCATION:Hotel Wysses Rössli\, Schwyz
CATEGORIES:Rotary
END:VEVENT
BEGIN:VTIMEZONE
TZID:Europe/Zurich
BEGIN:STANDARD
DTSTART:20161114T120000
TZNAME:CET
TZOFFSETTO:+0100
TZOFFSETFROM:+0100
END:STANDARD
END:VTIMEZONE
END:VCALENDAR
