BEGIN:VCALENDAR
PRODID:-//eluceo/ical//2.0/EN
VERSION:2.0
CALSCALE:GREGORIAN
BEGIN:VEVENT
UID:6c71fa965e53944e97acfc8798e570b4
DTSTAMP:20260421T121726Z
SUMMARY:Klassifikationsvortrag von Rot. Stefanie Wiget
DESCRIPTION:
URL:https://rotary-schwyz.ch/fr/agenda/show/78466
DTSTART;TZID=Europe/Zurich:20170904T120000
DTEND;TZID=Europe/Zurich:20170904T120000
LOCATION:Rest. Tells Hohle Gasse\, Immensee
CATEGORIES:Rotary
END:VEVENT
BEGIN:VTIMEZONE
TZID:Europe/Zurich
BEGIN:DAYLIGHT
DTSTART:20170904T120000
TZNAME:CEST
TZOFFSETTO:+0200
TZOFFSETFROM:+0200
END:DAYLIGHT
END:VTIMEZONE
END:VCALENDAR
