BEGIN:VCALENDAR
PRODID:-//eluceo/ical//2.0/EN
VERSION:2.0
CALSCALE:GREGORIAN
BEGIN:VEVENT
UID:2415e1132d729c15d3efd42364c988f6
DTSTAMP:20260421T084144Z
SUMMARY:Plauderlunch in Brunnen
DESCRIPTION:
URL:https://rotary-schwyz.ch/fr/agenda/show/78467
DTSTART;TZID=Europe/Zurich:20170911T120000
DTEND;TZID=Europe/Zurich:20170911T120000
LOCATION:Seehotel Waldstätterhof\, Brunnen
CATEGORIES:Rotary
END:VEVENT
BEGIN:VTIMEZONE
TZID:Europe/Zurich
BEGIN:DAYLIGHT
DTSTART:20170911T120000
TZNAME:CEST
TZOFFSETTO:+0200
TZOFFSETFROM:+0200
END:DAYLIGHT
END:VTIMEZONE
END:VCALENDAR
