BEGIN:VCALENDAR
PRODID:-//eluceo/ical//2.0/EN
VERSION:2.0
CALSCALE:GREGORIAN
BEGIN:VEVENT
UID:28f64a448230eafaa9f6488d78130eda
DTSTAMP:20260420T093654Z
SUMMARY:Clubversammlung
DESCRIPTION:
URL:https://rotary-schwyz.ch/fr/agenda/show/78471
DTSTART;TZID=Europe/Zurich:20171002T120000
DTEND;TZID=Europe/Zurich:20171002T120000
LOCATION:Rest. Tells Hohle Gasse\, Immensee
CATEGORIES:Rotary
END:VEVENT
BEGIN:VTIMEZONE
TZID:Europe/Zurich
BEGIN:DAYLIGHT
DTSTART:20171002T120000
TZNAME:CEST
TZOFFSETTO:+0200
TZOFFSETFROM:+0200
END:DAYLIGHT
END:VTIMEZONE
END:VCALENDAR
