BEGIN:VCALENDAR
PRODID:-//eluceo/ical//2.0/EN
VERSION:2.0
CALSCALE:GREGORIAN
BEGIN:VEVENT
UID:7e276bf277c7a858a4515d676d3ee560
DTSTAMP:20260420T094108Z
SUMMARY:Governorbesuch\, mit Sparlunch z.G. Polio Plus
DESCRIPTION:Conférencier(s): Governor Daniel Keuerleber-Burk
URL:https://rotary-schwyz.ch/fr/agenda/show/78474
DTSTART;TZID=Europe/Zurich:20171023T120000
DTEND;TZID=Europe/Zurich:20171023T120000
LOCATION:Hotel Wysses Rössli\, Schwyz
CATEGORIES:Rotary
END:VEVENT
BEGIN:VTIMEZONE
TZID:Europe/Zurich
BEGIN:DAYLIGHT
DTSTART:20171023T120000
TZNAME:CEST
TZOFFSETTO:+0200
TZOFFSETFROM:+0200
END:DAYLIGHT
END:VTIMEZONE
END:VCALENDAR
