BEGIN:VCALENDAR
PRODID:-//eluceo/ical//2.0/EN
VERSION:2.0
CALSCALE:GREGORIAN
BEGIN:VEVENT
UID:946936937f70f0949b496b15988634e6
DTSTAMP:20260425T101827Z
SUMMARY:Plauderlunch in Schwyz\, vorgängig Abschiedsapéro Daniel Fässler
DESCRIPTION:
URL:https://rotary-schwyz.ch/is/agenda/show/45548
DTSTART;TZID=Europe/Zurich:20141222T120000
DTEND;TZID=Europe/Zurich:20141222T120000
LOCATION:Hotel Wysses Rössli\, Schwyz
CATEGORIES:Rotary
END:VEVENT
BEGIN:VTIMEZONE
TZID:Europe/Zurich
BEGIN:STANDARD
DTSTART:20141222T120000
TZNAME:CET
TZOFFSETTO:+0100
TZOFFSETFROM:+0100
END:STANDARD
END:VTIMEZONE
END:VCALENDAR
