BEGIN:VCALENDAR
PRODID:-//eluceo/ical//2.0/EN
VERSION:2.0
CALSCALE:GREGORIAN
BEGIN:VEVENT
UID:737795002cce1bb57f6b33a5d5753d1c
DTSTAMP:20260420T104318Z
SUMMARY:Arthur Weber: Ausbau und Entwicklung
DESCRIPTION:Fyrirlesari(ar): Christoph Weber
URL:https://rotary-schwyz.ch/is/agenda/show/66636
DTSTART;TZID=Europe/Zurich:20161031T120000
DTEND;TZID=Europe/Zurich:20161031T120000
LOCATION:Hotel Wysses Rössli\, Schwyz
CATEGORIES:Rotary
END:VEVENT
BEGIN:VTIMEZONE
TZID:Europe/Zurich
BEGIN:STANDARD
DTSTART:20161031T120000
TZNAME:CET
TZOFFSETTO:+0100
TZOFFSETFROM:+0100
END:STANDARD
END:VTIMEZONE
END:VCALENDAR
