BEGIN:VCALENDAR
PRODID:-//eluceo/ical//2.0/EN
VERSION:2.0
CALSCALE:GREGORIAN
BEGIN:VEVENT
UID:20cd2dec73122c9b5710626c510e599d
DTSTAMP:20260425T012656Z
SUMMARY:Plauderlunch in Küssnacht
DESCRIPTION:
URL:https://rotary-schwyz.ch/is/agenda/show/70226
DTSTART;TZID=Europe/Zurich:20170109T120000
DTEND;TZID=Europe/Zurich:20170109T120000
LOCATION:Hotel Restaurant Seehof\, Küssnacht am Rigi
CATEGORIES:Rotary
END:VEVENT
BEGIN:VTIMEZONE
TZID:Europe/Zurich
BEGIN:STANDARD
DTSTART:20170109T120000
TZNAME:CET
TZOFFSETTO:+0100
TZOFFSETFROM:+0100
END:STANDARD
END:VTIMEZONE
END:VCALENDAR
