BEGIN:VCALENDAR
PRODID:-//eluceo/ical//2.0/EN
VERSION:2.0
CALSCALE:GREGORIAN
BEGIN:VEVENT
UID:34f3ed1c79bc15dc92eb307de918cafc
DTSTAMP:20260425T025435Z
SUMMARY:AHVeasy - neue Dienstleistung für KMU
DESCRIPTION:Fyrirlesari(ar): Andreas Dummermuth
URL:https://rotary-schwyz.ch/is/agenda/show/70231
DTSTART;TZID=Europe/Zurich:20170220T120000
DTEND;TZID=Europe/Zurich:20170220T120000
LOCATION:Hotel Wysses Rössli\, Schwyz
CATEGORIES:Rotary
END:VEVENT
BEGIN:VTIMEZONE
TZID:Europe/Zurich
BEGIN:STANDARD
DTSTART:20170220T120000
TZNAME:CET
TZOFFSETTO:+0100
TZOFFSETFROM:+0100
END:STANDARD
END:VTIMEZONE
END:VCALENDAR
