BEGIN:VCALENDAR
PRODID:-//eluceo/ical//2.0/EN
VERSION:2.0
CALSCALE:GREGORIAN
BEGIN:VEVENT
UID:f6eaa8f520d20eba1b3ef75af6717cd8
DTSTAMP:20260425T012051Z
SUMMARY:Polizeiarbeit für Ihre Sicherheit
DESCRIPTION:Fyrirlesari(ar): Damian Meier\, Chef
URL:https://rotary-schwyz.ch/is/agenda/show/70232
DTSTART;TZID=Europe/Zurich:20170213T120000
DTEND;TZID=Europe/Zurich:20170213T120000
LOCATION:Hotel Wysses Rössli\, Schwyz
CATEGORIES:Rotary
END:VEVENT
BEGIN:VTIMEZONE
TZID:Europe/Zurich
BEGIN:STANDARD
DTSTART:20170213T120000
TZNAME:CET
TZOFFSETTO:+0100
TZOFFSETFROM:+0100
END:STANDARD
END:VTIMEZONE
END:VCALENDAR
