BEGIN:VCALENDAR
PRODID:-//eluceo/ical//2.0/EN
VERSION:2.0
CALSCALE:GREGORIAN
BEGIN:VEVENT
UID:f5fbceb82834a8a376a17f65cb84e0cc
DTSTAMP:20260425T024420Z
SUMMARY:Plauderlunch zum Güdelmäntig
DESCRIPTION:
URL:https://rotary-schwyz.ch/is/agenda/show/70233
DTSTART;TZID=Europe/Zurich:20170227T120000
DTEND;TZID=Europe/Zurich:20170227T120000
LOCATION:Hotel Wysses Rössli\, Schwyz
CATEGORIES:Rotary
END:VEVENT
BEGIN:VTIMEZONE
TZID:Europe/Zurich
BEGIN:STANDARD
DTSTART:20170227T120000
TZNAME:CET
TZOFFSETTO:+0100
TZOFFSETFROM:+0100
END:STANDARD
END:VTIMEZONE
END:VCALENDAR
