BEGIN:VCALENDAR
PRODID:-//eluceo/ical//2.0/EN
VERSION:2.0
CALSCALE:GREGORIAN
BEGIN:VEVENT
UID:ee229b26363fe9180f8f2cd8671f6976
DTSTAMP:20260425T012425Z
SUMMARY:Plauderlunch in Schwyz
DESCRIPTION:
URL:https://rotary-schwyz.ch/is/agenda/show/72220
DTSTART;TZID=Europe/Zurich:20170320T120000
DTEND;TZID=Europe/Zurich:20170320T120000
LOCATION:Hotel Wysses Rössli\, Schwyz
CATEGORIES:Rotary
END:VEVENT
BEGIN:VTIMEZONE
TZID:Europe/Zurich
BEGIN:STANDARD
DTSTART:20170320T120000
TZNAME:CET
TZOFFSETTO:+0100
TZOFFSETFROM:+0100
END:STANDARD
END:VTIMEZONE
END:VCALENDAR
