BEGIN:VCALENDAR
PRODID:-//eluceo/ical//2.0/EN
VERSION:2.0
CALSCALE:GREGORIAN
BEGIN:VEVENT
UID:322859d276eae96d7af57fb79f48a5ff
DTSTAMP:20260425T025120Z
SUMMARY:RIGI-Bahnen
DESCRIPTION:Fyrirlesari(ar): Stefan Otz\, CEO RIGI-Bahnen
URL:https://rotary-schwyz.ch/is/agenda/show/72221
DTSTART;TZID=Europe/Zurich:20170327T120000
DTEND;TZID=Europe/Zurich:20170327T120000
LOCATION:Hotel Wysses Rössli\, Schwyz
CATEGORIES:Rotary
END:VEVENT
BEGIN:VTIMEZONE
TZID:Europe/Zurich
BEGIN:DAYLIGHT
DTSTART:20170327T120000
TZNAME:CEST
TZOFFSETTO:+0200
TZOFFSETFROM:+0200
END:DAYLIGHT
END:VTIMEZONE
END:VCALENDAR
