BEGIN:VCALENDAR
PRODID:-//eluceo/ical//2.0/EN
VERSION:2.0
CALSCALE:GREGORIAN
BEGIN:VEVENT
UID:b7985b510bcb2c0743aa8a811e298846
DTSTAMP:20260425T024604Z
SUMMARY:Plauderlunch in Küssnacht
DESCRIPTION:
URL:https://rotary-schwyz.ch/is/agenda/show/72222
DTSTART;TZID=Europe/Zurich:20170403T120000
DTEND;TZID=Europe/Zurich:20170403T120000
LOCATION:Hotel Restaurant Seehof\, Küssnacht
CATEGORIES:Rotary
END:VEVENT
BEGIN:VTIMEZONE
TZID:Europe/Zurich
BEGIN:DAYLIGHT
DTSTART:20170403T120000
TZNAME:CEST
TZOFFSETTO:+0200
TZOFFSETFROM:+0200
END:DAYLIGHT
END:VTIMEZONE
END:VCALENDAR
