BEGIN:VCALENDAR
PRODID:-//eluceo/ical//2.0/EN
VERSION:2.0
CALSCALE:GREGORIAN
BEGIN:VEVENT
UID:1f5e5132681f886ac054c97ffacfce45
DTSTAMP:20260425T010230Z
SUMMARY:Plauderlunch in Brunnen
DESCRIPTION:
URL:https://rotary-schwyz.ch/is/agenda/show/72224
DTSTART;TZID=Europe/Zurich:20170424T120000
DTEND;TZID=Europe/Zurich:20170424T120000
LOCATION:Seehotel Waldstätterhof\, Brunnen
CATEGORIES:Rotary
END:VEVENT
BEGIN:VTIMEZONE
TZID:Europe/Zurich
BEGIN:DAYLIGHT
DTSTART:20170424T120000
TZNAME:CEST
TZOFFSETTO:+0200
TZOFFSETFROM:+0200
END:DAYLIGHT
END:VTIMEZONE
END:VCALENDAR
