BEGIN:VCALENDAR
PRODID:-//eluceo/ical//2.0/EN
VERSION:2.0
CALSCALE:GREGORIAN
BEGIN:VEVENT
UID:d0104e940bf8063d5880d8f2baa26d37
DTSTAMP:20260425T005620Z
SUMMARY:Besichtigung Südumfahrung Küssnacht - Aschnitt Ebnet-Räbmatt
DESCRIPTION:Fyrirlesari(ar): Partneranlass mit RC Küssnacht-Rigi-Meggen
URL:https://rotary-schwyz.ch/is/agenda/show/73697
DTSTART;TZID=Europe/Zurich:20170601T170000
DTEND;TZID=Europe/Zurich:20170601T170000
LOCATION:Küssnacht
CATEGORIES:Rotary
END:VEVENT
BEGIN:VTIMEZONE
TZID:Europe/Zurich
BEGIN:DAYLIGHT
DTSTART:20170601T170000
TZNAME:CEST
TZOFFSETTO:+0200
TZOFFSETFROM:+0200
END:DAYLIGHT
END:VTIMEZONE
END:VCALENDAR
