BEGIN:VCALENDAR
PRODID:-//eluceo/ical//2.0/EN
VERSION:2.0
CALSCALE:GREGORIAN
BEGIN:VEVENT
UID:6e08709743b197e84cd5e6a6a8b8e745
DTSTAMP:20260424T233849Z
SUMMARY:Nauenfahrt Vierwaldstättersee
DESCRIPTION:Fyrirlesari(ar): (nur bei geeigneter Witterung)
URL:https://rotary-schwyz.ch/is/agenda/show/73698
DTSTART;TZID=Europe/Zurich:20170612T170000
DTEND;TZID=Europe/Zurich:20170612T170000
LOCATION:Mole beim Seehotel Waldstätterhof\, Brunnen
CATEGORIES:Rotary
END:VEVENT
BEGIN:VTIMEZONE
TZID:Europe/Zurich
BEGIN:DAYLIGHT
DTSTART:20170612T170000
TZNAME:CEST
TZOFFSETTO:+0200
TZOFFSETFROM:+0200
END:DAYLIGHT
END:VTIMEZONE
END:VCALENDAR
