BEGIN:VCALENDAR
PRODID:-//eluceo/ical//2.0/EN
VERSION:2.0
CALSCALE:GREGORIAN
BEGIN:VEVENT
UID:dd936ee2fc3bbe7c6fbdc3b04ec6a126
DTSTAMP:20260423T114944Z
SUMMARY:Plauderlunch in der Suppenanstalt
DESCRIPTION:
URL:https://rotary-schwyz.ch/is/agenda/show/81455
DTSTART;TZID=Europe/Zurich:20180115T120000
DTEND;TZID=Europe/Zurich:20180115T120000
LOCATION:Suppenanstalt Schwyz
CATEGORIES:Rotary
END:VEVENT
BEGIN:VTIMEZONE
TZID:Europe/Zurich
BEGIN:STANDARD
DTSTART:20180115T120000
TZNAME:CET
TZOFFSETTO:+0100
TZOFFSETFROM:+0100
END:STANDARD
END:VTIMEZONE
END:VCALENDAR
