BEGIN:VCALENDAR
PRODID:-//eluceo/ical//2.0/EN
VERSION:2.0
CALSCALE:GREGORIAN
BEGIN:VEVENT
UID:becd7494362e2bd2e6a353245fa455da
DTSTAMP:20260421T130003Z
SUMMARY:Plauderlunch in Brunnen
DESCRIPTION:
URL:https://rotary-schwyz.ch/is/agenda/show/84206
DTSTART;TZID=Europe/Zurich:20180423T120000
DTEND;TZID=Europe/Zurich:20180423T120000
LOCATION:Seehotel Waldstätterhof\, Brunnen
CATEGORIES:Rotary
END:VEVENT
BEGIN:VTIMEZONE
TZID:Europe/Zurich
BEGIN:DAYLIGHT
DTSTART:20180423T120000
TZNAME:CEST
TZOFFSETTO:+0200
TZOFFSETFROM:+0200
END:DAYLIGHT
END:VTIMEZONE
END:VCALENDAR
