BEGIN:VCALENDAR
PRODID:-//eluceo/ical//2.0/EN
VERSION:2.0
CALSCALE:GREGORIAN
BEGIN:VEVENT
UID:27cc12bde91401b7efc4f1846e65ee8f
DTSTAMP:20260420T084816Z
SUMMARY:Plauderlunch
DESCRIPTION:
URL:https://rotary-schwyz.ch/sv/agenda/show/27040
DTSTART;TZID=Europe/Zurich:20121210T120000
DTEND;TZID=Europe/Zurich:20121210T120000
LOCATION:Hotel Wysses Rössli\, Schwyz
CATEGORIES:Rotary
END:VEVENT
BEGIN:VTIMEZONE
TZID:Europe/Zurich
BEGIN:STANDARD
DTSTART:20121210T120000
TZNAME:CET
TZOFFSETTO:+0100
TZOFFSETFROM:+0100
END:STANDARD
END:VTIMEZONE
END:VCALENDAR
