BEGIN:VCALENDAR
PRODID:-//eluceo/ical//2.0/EN
VERSION:2.0
CALSCALE:GREGORIAN
BEGIN:VEVENT
UID:098121b31bae3ee11883163b2064ed4c
DTSTAMP:20260423T164026Z
SUMMARY:Plauderlunch in Schwyz
DESCRIPTION:
URL:https://rotary-schwyz.ch/sv/agenda/show/29837
DTSTART;TZID=Europe/Zurich:20130318T000000
DTEND;TZID=Europe/Zurich:20130318T000000
LOCATION:Hotel Wysses Rössli\, Schwyz
CATEGORIES:Rotary
END:VEVENT
BEGIN:VTIMEZONE
TZID:Europe/Zurich
BEGIN:STANDARD
DTSTART:20130318T000000
TZNAME:CET
TZOFFSETTO:+0100
TZOFFSETFROM:+0100
END:STANDARD
END:VTIMEZONE
END:VCALENDAR
