BEGIN:VCALENDAR
PRODID:-//eluceo/ical//2.0/EN
VERSION:2.0
CALSCALE:GREGORIAN
BEGIN:VEVENT
UID:92515fc615506862a1cd90ba88881a56
DTSTAMP:20260423T180942Z
SUMMARY:Regionalzeitung im Spannungsfeld der Interessen
DESCRIPTION:Talare: Josias Clavadetscher\, Chefredaktor "Bote der Urschweiz
 "
URL:https://rotary-schwyz.ch/sv/agenda/show/29838
DTSTART;TZID=Europe/Zurich:20130325T120000
DTEND;TZID=Europe/Zurich:20130325T120000
LOCATION:Hotel Wysses Rössli\, Schwyz
CATEGORIES:Rotary
END:VEVENT
BEGIN:VTIMEZONE
TZID:Europe/Zurich
BEGIN:STANDARD
DTSTART:20130325T120000
TZNAME:CET
TZOFFSETTO:+0100
TZOFFSETFROM:+0100
END:STANDARD
END:VTIMEZONE
END:VCALENDAR
