BEGIN:VCALENDAR
PRODID:-//eluceo/ical//2.0/EN
VERSION:2.0
CALSCALE:GREGORIAN
BEGIN:VEVENT
UID:21a7e0eeff41a4cd13b7a823aa43495d
DTSTAMP:20260423T164204Z
SUMMARY:Kein Meeting (Ostermontag)
DESCRIPTION:
URL:https://rotary-schwyz.ch/sv/agenda/show/29839
DTSTART;TZID=Europe/Zurich:20130401T000000
DTEND;TZID=Europe/Zurich:20130401T000000
LOCATION:-
CATEGORIES:Rotary
END:VEVENT
BEGIN:VTIMEZONE
TZID:Europe/Zurich
BEGIN:DAYLIGHT
DTSTART:20130401T000000
TZNAME:CEST
TZOFFSETTO:+0200
TZOFFSETFROM:+0200
END:DAYLIGHT
END:VTIMEZONE
END:VCALENDAR
