BEGIN:VCALENDAR
PRODID:-//eluceo/ical//2.0/EN
VERSION:2.0
CALSCALE:GREGORIAN
BEGIN:VEVENT
UID:8daad9539bd470e1cf9a10c7ea0b1864
DTSTAMP:20260425T132220Z
SUMMARY:Heutige Herausforderungen bei den Immobilien
DESCRIPTION:Talare: Daniel Montandon\, Svito AG\, Schyzz
URL:https://rotary-schwyz.ch/sv/agenda/show/29843
DTSTART;TZID=Europe/Zurich:20130422T120000
DTEND;TZID=Europe/Zurich:20130422T120000
LOCATION:Hotel Wysses Rössli\, Schwyz
CATEGORIES:Rotary
END:VEVENT
BEGIN:VTIMEZONE
TZID:Europe/Zurich
BEGIN:DAYLIGHT
DTSTART:20130422T120000
TZNAME:CEST
TZOFFSETTO:+0200
TZOFFSETFROM:+0200
END:DAYLIGHT
END:VTIMEZONE
END:VCALENDAR
