BEGIN:VCALENDAR
PRODID:-//eluceo/ical//2.0/EN
VERSION:2.0
CALSCALE:GREGORIAN
BEGIN:VEVENT
UID:6075ccf102d9cd36a249b18d7fd5439a
DTSTAMP:20260419T131848Z
SUMMARY:Sonderanlass: Konzert AmadeusChor in Schwyz
DESCRIPTION:Talare: Separate Einladung.
URL:https://rotary-schwyz.ch/sv/agenda/show/45070
DTSTART;TZID=Europe/Zurich:20141108T173000
DTEND;TZID=Europe/Zurich:20141108T173000
LOCATION:Kollegiumskirche\, Kollegi Schwyz
CATEGORIES:Rotary
END:VEVENT
BEGIN:VTIMEZONE
TZID:Europe/Zurich
BEGIN:STANDARD
DTSTART:20141108T173000
TZNAME:CET
TZOFFSETTO:+0100
TZOFFSETFROM:+0100
END:STANDARD
END:VTIMEZONE
END:VCALENDAR
