BEGIN:VCALENDAR
PRODID:-//eluceo/ical//2.0/EN
VERSION:2.0
CALSCALE:GREGORIAN
BEGIN:VEVENT
UID:1f3c7ad3c4c515e426af0459a40dbc00
DTSTAMP:20260423T093258Z
SUMMARY:Esstheater in 3 Akten mit dem Duo Fischbach
DESCRIPTION:Talare: Partneranlass. Separate Einladung.
URL:https://rotary-schwyz.ch/sv/agenda/show/45547
DTSTART;TZID=Europe/Zurich:20141215T183000
DTEND;TZID=Europe/Zurich:20141215T183000
LOCATION:Theater Duo Fischbach\, Küssnacht
CATEGORIES:Rotary
END:VEVENT
BEGIN:VTIMEZONE
TZID:Europe/Zurich
BEGIN:STANDARD
DTSTART:20141215T183000
TZNAME:CET
TZOFFSETTO:+0100
TZOFFSETFROM:+0100
END:STANDARD
END:VTIMEZONE
END:VCALENDAR
