BEGIN:VCALENDAR
PRODID:-//eluceo/ical//2.0/EN
VERSION:2.0
CALSCALE:GREGORIAN
BEGIN:VEVENT
UID:be906cdee8668602f0b0eb46c500eaa3
DTSTAMP:20260423T091633Z
SUMMARY:Plauderlunch in Küssnacht
DESCRIPTION:
URL:https://rotary-schwyz.ch/sv/agenda/show/45550
DTSTART;TZID=Europe/Zurich:20150105T120000
DTEND;TZID=Europe/Zurich:20150105T120000
LOCATION:Hotel Restaurant Seehof\, Küssnacht
CATEGORIES:Rotary
END:VEVENT
BEGIN:VTIMEZONE
TZID:Europe/Zurich
BEGIN:STANDARD
DTSTART:20150105T120000
TZNAME:CET
TZOFFSETTO:+0100
TZOFFSETFROM:+0100
END:STANDARD
END:VTIMEZONE
END:VCALENDAR
