BEGIN:VCALENDAR
PRODID:-//eluceo/ical//2.0/EN
VERSION:2.0
CALSCALE:GREGORIAN
BEGIN:VEVENT
UID:e21a000f19933e4493f0e9a6ccdda089
DTSTAMP:20260423T104944Z
SUMMARY:Evolution
DESCRIPTION:Talare: Rot. Werner Steinegger
URL:https://rotary-schwyz.ch/sv/agenda/show/45551
DTSTART;TZID=Europe/Zurich:20150112T000000
DTEND;TZID=Europe/Zurich:20150112T000000
LOCATION:Hotel Wysses Rössli\, Schwyz
CATEGORIES:Rotary
END:VEVENT
BEGIN:VTIMEZONE
TZID:Europe/Zurich
BEGIN:STANDARD
DTSTART:20150112T000000
TZNAME:CET
TZOFFSETTO:+0100
TZOFFSETFROM:+0100
END:STANDARD
END:VTIMEZONE
END:VCALENDAR
