BEGIN:VCALENDAR
PRODID:-//eluceo/ical//2.0/EN
VERSION:2.0
CALSCALE:GREGORIAN
BEGIN:VEVENT
UID:87fb7b76eb9981e27a47e4d7798075d1
DTSTAMP:20260420T132203Z
SUMMARY:Weihnachtsanlass (Partneranlass gemäss separater Einladung)
DESCRIPTION:
URL:https://rotary-schwyz.ch/sv/agenda/show/56019
DTSTART;TZID=Europe/Zurich:20151214T183000
DTEND;TZID=Europe/Zurich:20151214T183000
LOCATION:Gasthaus Engel\, Küssnacht am Rigi
CATEGORIES:Rotary
END:VEVENT
BEGIN:VTIMEZONE
TZID:Europe/Zurich
BEGIN:STANDARD
DTSTART:20151214T183000
TZNAME:CET
TZOFFSETTO:+0100
TZOFFSETFROM:+0100
END:STANDARD
END:VTIMEZONE
END:VCALENDAR
