BEGIN:VCALENDAR
PRODID:-//eluceo/ical//2.0/EN
VERSION:2.0
CALSCALE:GREGORIAN
BEGIN:VEVENT
UID:c8a33787a081bed35576d1557774d5fc
DTSTAMP:20260424T004249Z
SUMMARY:Schweizerische Landwirtschaft
DESCRIPTION:Talare: NR Markus Ritter
URL:https://rotary-schwyz.ch/sv/agenda/show/57324
DTSTART;TZID=Europe/Zurich:20160111T120000
DTEND;TZID=Europe/Zurich:20160111T120000
LOCATION:Hotel Wysses Rössli\, Schwyz
CATEGORIES:Rotary
END:VEVENT
BEGIN:VTIMEZONE
TZID:Europe/Zurich
BEGIN:STANDARD
DTSTART:20160111T120000
TZNAME:CET
TZOFFSETTO:+0100
TZOFFSETFROM:+0100
END:STANDARD
END:VTIMEZONE
END:VCALENDAR
