BEGIN:VCALENDAR
PRODID:-//eluceo/ical//2.0/EN
VERSION:2.0
CALSCALE:GREGORIAN
BEGIN:VEVENT
UID:2a9d4be5a6222562335fe7c2bbad2d63
DTSTAMP:20260424T003553Z
SUMMARY:Plauderlunch in der Hohlen Gasse
DESCRIPTION:
URL:https://rotary-schwyz.ch/sv/agenda/show/57327
DTSTART;TZID=Europe/Zurich:20160201T120000
DTEND;TZID=Europe/Zurich:20160201T120000
LOCATION:Restaurant Hohle Gasse\, Küssnacht/Immensee
CATEGORIES:Rotary
END:VEVENT
BEGIN:VTIMEZONE
TZID:Europe/Zurich
BEGIN:STANDARD
DTSTART:20160201T120000
TZNAME:CET
TZOFFSETTO:+0100
TZOFFSETFROM:+0100
END:STANDARD
END:VTIMEZONE
END:VCALENDAR
