BEGIN:VCALENDAR
PRODID:-//eluceo/ical//2.0/EN
VERSION:2.0
CALSCALE:GREGORIAN
BEGIN:VEVENT
UID:da3d5f7aeb000e1458d55fffe9b76161
DTSTAMP:20260422T131312Z
SUMMARY:Baudepartement des Kantons Schwyz
DESCRIPTION:Talare: Rot. und RR Othmar Reichmuth
URL:https://rotary-schwyz.ch/sv/agenda/show/60112
DTSTART;TZID=Europe/Zurich:20160321T120000
DTEND;TZID=Europe/Zurich:20160321T120000
LOCATION:Hotel Wysses Rössli\, Schwyz
CATEGORIES:Rotary
END:VEVENT
BEGIN:VTIMEZONE
TZID:Europe/Zurich
BEGIN:STANDARD
DTSTART:20160321T120000
TZNAME:CET
TZOFFSETTO:+0100
TZOFFSETFROM:+0100
END:STANDARD
END:VTIMEZONE
END:VCALENDAR
