BEGIN:VCALENDAR
PRODID:-//eluceo/ical//2.0/EN
VERSION:2.0
CALSCALE:GREGORIAN
BEGIN:VEVENT
UID:02dd135f2e52f1be5516db54cb7d8500
DTSTAMP:20260419T181306Z
SUMMARY:Präsenzlunch (Hauptprogramm: Pragellauf gemäss sep. Programm)
DESCRIPTION:
URL:https://rotary-schwyz.ch/sv/agenda/show/63271
DTSTART;TZID=Europe/Zurich:20160725T120000
DTEND;TZID=Europe/Zurich:20160725T120000
LOCATION:Seehotel Waldstätterhof\, Brunnen
CATEGORIES:Rotary
END:VEVENT
BEGIN:VTIMEZONE
TZID:Europe/Zurich
BEGIN:DAYLIGHT
DTSTART:20160725T120000
TZNAME:CEST
TZOFFSETTO:+0200
TZOFFSETFROM:+0200
END:DAYLIGHT
END:VTIMEZONE
END:VCALENDAR
