BEGIN:VCALENDAR
PRODID:-//eluceo/ical//2.0/EN
VERSION:2.0
CALSCALE:GREGORIAN
BEGIN:VEVENT
UID:5021d1055d11d1853fd0a22067adb7e7
DTSTAMP:20260423T091931Z
SUMMARY:Plauderlunch in Küssnacht am Rigi
DESCRIPTION:
URL:https://rotary-schwyz.ch/sv/agenda/show/66632
DTSTART;TZID=Europe/Zurich:20161003T120000
DTEND;TZID=Europe/Zurich:20161003T120000
LOCATION:Hotel Restaurant Seehof\, Küssnacht
CATEGORIES:Rotary
END:VEVENT
BEGIN:VTIMEZONE
TZID:Europe/Zurich
BEGIN:DAYLIGHT
DTSTART:20161003T120000
TZNAME:CEST
TZOFFSETTO:+0200
TZOFFSETFROM:+0200
END:DAYLIGHT
END:VTIMEZONE
END:VCALENDAR
